BEGIN:VCALENDAR
VERSION:2.0
PRODID:-//ChamberMaster//Event Calendar 2.0//EN
METHOD:PUBLISH
X-PUBLISHED-TTL:P3D
REFRESH-INTERVAL:P3D
CALSCALE:GREGORIAN
BEGIN:VEVENT
DTSTART:20190504T180000Z
DTEND:20190505T043000Z
X-MICROSOFT-CDO-ALLDAYEVENT:FALSE
SUMMARY:Atrevida 1-Year Fiesta
DESCRIPTION:The get down of all get downs! Save the date.. Jess and the crew will have a rotation of 18 beers on tap to include 6 beers as part of the "Viva La Mujer" series inspired by powerful women who have had huge impacts on society\, Aztec Gadiva\, Nana Neta\, La Gran Senora\, Maldito Amor\, Boriqua are all coming back. The Switchbacks FC will have a booth from 12-2pm and Ziggy will be joining us for the Pinata fun\, BB-8 will join us for some Jedi magic and we have other invited friends of the force\, our favorite musicians from 4ID will be playing some Latin music for us\, Nube Nueve will be on hand with Latin Jazz from 5-7pm. Food will be provided by Piglatin Food Truck from 12-5pm and Serrano's Catering\, Food truck\, Woodland Park from 5-10pm. We are so excited for this. This thing just keeps getting better and believe me there are more surprises to come.
X-ALT-DESC;FMTTYPE=text/html:<span style="color:rgb(29\, 33\, 41)\; font-family:helvetica\,arial\,sans-serif\; font-size:14px">The get down of all get downs! Save the date.. Jess and the crew will have a rotation of 18 beers on tap to include 6 beers as part of the &quot\;Viva La Mujer&quot\; series inspired by powerful women who have had huge impacts on society\, Aztec Gadiva\, Nana Neta\, La Gran Senora\, Maldito Amor\, Boriqua are all coming back. The </span><a href="https://www.facebook.com/switchbacksfc/" style="color: rgb(54\, 88\, 153)\; cursor: pointer\; text-decoration-line: none\; font-family: Helvetica\, Arial\, sans-serif\; font-size: 14px\; white-space: pre-wrap\;" target="_blank">Switchbacks FC</a><span style="color:rgb(29\, 33\, 41)\; font-family:helvetica\,arial\,sans-serif\; font-size:14px"> will have a booth from 12-2pm and Ziggy will be joining us for the Pinata fun\, BB-8 will join us for some Jedi magic and we have other invited friends of the force\, our favorite musicians from 4ID will be playing some Latin music for us\, Nube Nueve will be on hand with Latin Jazz from 5-7pm. Food will be provided by </span><a href="https://www.facebook.com/PigLatinTruck/" style="color: rgb(54\, 88\, 153)\; cursor: pointer\; text-decoration-line: none\; font-family: Helvetica\, Arial\, sans-serif\; font-size: 14px\; white-space: pre-wrap\;" target="_blank">Piglatin Food Truck</a><span style="color:rgb(29\, 33\, 41)\; font-family:helvetica\,arial\,sans-serif\; font-size:14px"> from 12-5pm and </span><a href="https://www.facebook.com/SerranosMexicanBarAndGrill/" style="color: rgb(54\, 88\, 153)\; cursor: pointer\; text-decoration-line: none\; font-family: Helvetica\, Arial\, sans-serif\; font-size: 14px\; white-space: pre-wrap\;" target="_blank">Serrano&#39\;s Catering\, Food truck\, Woodland Park</a><span style="color:rgb(29\, 33\, 41)\; font-family:helvetica\,arial\,sans-serif\; font-size:14px"> from 5-10pm. We are so excited for this. This thing just keeps getting better and believe me there are more surprises to come.</span>
LOCATION:Atrevida Beer Co. 204 Mt View Lane Suite 3 Colorado Springs\, CO 80907
UID:e.3452.431
SEQUENCE:3
DTSTAMP:20260423T205141Z
URL:https://cressiodev.cshispanicchamber.com/events/details/atrevida-1-year-fiesta-431
END:VEVENT

END:VCALENDAR
