BEGIN:VCALENDAR
VERSION:2.0
PRODID:-//ChamberMaster//Event Calendar 2.0//EN
METHOD:PUBLISH
X-PUBLISHED-TTL:P3D
REFRESH-INTERVAL:P3D
CALSCALE:GREGORIAN
BEGIN:VEVENT
DTSTART:20230401T150000Z
DTEND:20230401T170000Z
X-MICROSOFT-CDO-ALLDAYEVENT:FALSE
SUMMARY:Cars and Coffee
DESCRIPTION:Join us for our second free\, casual get-together to talk cars with like-minded enthusiasts! Enjoy complimentary coffee and donuts as well!
X-ALT-DESC;FMTTYPE=text/html:Join us for our second free\, casual get-together to talk cars with like-minded enthusiasts! Enjoy complimentary coffee and donuts as well!
LOCATION:670 Automotive Dr. Colorado Springs\, CO 80905
UID:e.3452.2861
SEQUENCE:3
DTSTAMP:20260420T131628Z
URL:https://cressiodev.cshispanicchamber.com/events/details/cars-and-coffee-04-01-2023-2861
END:VEVENT

END:VCALENDAR
