BEGIN:VCALENDAR
VERSION:2.0
PRODID:-//ChamberMaster//Event Calendar 2.0//EN
METHOD:PUBLISH
X-PUBLISHED-TTL:P3D
REFRESH-INTERVAL:P3D
CALSCALE:GREGORIAN
BEGIN:VEVENT
DTSTART:20230304T160000Z
DTEND:20230304T180000Z
X-MICROSOFT-CDO-ALLDAYEVENT:FALSE
SUMMARY:Cars and Coffee
DESCRIPTION:Join us for a free\, casual get-together to talk cars with like-minded enthusiasts! Enjoy complimentary coffee and donuts as well!
X-ALT-DESC;FMTTYPE=text/html:<span style="font-size:16px\;"><span style="font-family:arial\;">Join us for a free\, casual get-together to talk cars with like-minded enthusiasts! Enjoy complimentary coffee and donuts as well!</span></span>
LOCATION:670 Automotive Drive Colorado Springs\, CO 80905
UID:e.3452.2256
SEQUENCE:3
DTSTAMP:20260420T145142Z
URL:https://cressiodev.cshispanicchamber.com/events/details/cars-and-coffee-2256
END:VEVENT

END:VCALENDAR
