BEGIN:VCALENDAR
VERSION:2.0
PRODID:-//ChamberMaster//Event Calendar 2.0//EN
METHOD:PUBLISH
X-PUBLISHED-TTL:P3D
REFRESH-INTERVAL:P3D
CALSCALE:GREGORIAN
BEGIN:VEVENT
DTSTART:20190723T170000Z
DTEND:20190723T190000Z
X-MICROSOFT-CDO-ALLDAYEVENT:FALSE
SUMMARY:Chamber Business Luncheon
DESCRIPTION:Connect and elevate your business through networking and fellowship with Hispanic-owned and small businesses in the Pikes Peak regions working together for greater prosperity in our community.
X-ALT-DESC;FMTTYPE=text/html:Connect and elevate your business through networking and fellowship with Hispanic-owned and small businesses in the Pikes Peak regions working together for greater prosperity in our community.&nbsp\;&nbsp\;
LOCATION:Brookdale Skyline Senior Living 2365 Patriot Heights Colorado Springs\, Colorado 80904
UID:e.3452.5
SEQUENCE:3
DTSTAMP:20260423T175426Z
URL:https://cressiodev.cshispanicchamber.com/events/details/chamber-business-luncheon-07-23-2019-5
END:VEVENT

END:VCALENDAR
