BEGIN:VCALENDAR
VERSION:2.0
PRODID:-//ChamberMaster//Event Calendar 2.0//EN
METHOD:PUBLISH
X-PUBLISHED-TTL:P3D
REFRESH-INTERVAL:P3D
CALSCALE:GREGORIAN
BEGIN:VEVENT
DTSTART:20190226T180000Z
DTEND:20190226T200000Z
X-MICROSOFT-CDO-ALLDAYEVENT:FALSE
SUMMARY:Concilio Business Luncheon
DESCRIPTION:Register and Pay Here:
X-ALT-DESC;FMTTYPE=text/html:<p><a href="https://www.eventbrite.com/e/colorado-springs-hispanic-business-council-el-concilio-luncheon-tickets-54327658489?aff=eac2">Register and Pay Here:</a></p>\n\n<p>&nbsp\;</p>\n
LOCATION:The Warehouse Restaurant & Gallery 25 W. Cimarron Street Colorado Springs\, Colorado
UID:e.3452.2
SEQUENCE:3
DTSTAMP:20260424T002714Z
URL:https://cressiodev.cshispanicchamber.com/events/details/concilio-business-luncheon-02-26-2019-2
END:VEVENT

END:VCALENDAR
