BEGIN:VCALENDAR
VERSION:2.0
PRODID:-//ChamberMaster//Event Calendar 2.0//EN
METHOD:PUBLISH
X-PUBLISHED-TTL:P3D
REFRESH-INTERVAL:P3D
CALSCALE:GREGORIAN
BEGIN:VEVENT
DTSTART:20190423T170000Z
DTEND:20190423T190000Z
X-MICROSOFT-CDO-ALLDAYEVENT:FALSE
SUMMARY:Concilio Business Luncheon
DESCRIPTION:Connect and elevate your business through networking and fellowship with Hispanic-owned and small businesses in the Pikes Peak regions working together for greater prosperity in our community.
X-ALT-DESC;FMTTYPE=text/html:Connect and elevate your business through networking and fellowship with Hispanic-owned and small businesses in the Pikes Peak regions working together for greater prosperity in our community.&nbsp\;&nbsp\;
LOCATION:The Warehouse Restaurant & Gallery 25 W. Cimarron Street Colorado Springs\, Colorado
UID:e.3452.4
SEQUENCE:3
DTSTAMP:20260423T214757Z
URL:https://cressiodev.cshispanicchamber.com/events/details/concilio-business-luncheon-4
END:VEVENT

END:VCALENDAR
