BEGIN:VCALENDAR
VERSION:2.0
PRODID:-//ChamberMaster//Event Calendar 2.0//EN
METHOD:PUBLISH
X-PUBLISHED-TTL:P3D
REFRESH-INTERVAL:P3D
CALSCALE:GREGORIAN
BEGIN:VEVENT
DTSTART:20230414T180000Z
DTEND:20230414T220000Z
X-MICROSOFT-CDO-ALLDAYEVENT:FALSE
SUMMARY:El Pomar Nonprofit Board Governance Training
DESCRIPTION:Board Governance\, led by Amber Cot  provides fundamental knowledge in board roles and responsibilities including legal and fiduciary responsibilities\, business of the board\, and critical roles and functions of the Board. ($25/board member payable at door by check)
X-ALT-DESC;FMTTYPE=text/html:<span style="font-size:16px\;"><span style="font-family:arial\;">Board Governance\, led by Amber Cot&eacute\; provides fundamental knowledge in board roles and responsibilities including legal and&nbsp\;fiduciary responsibilities\, business of the board\, and critical roles and functions of the Board. ($25/board member payable at door by check)</span></span><br />\n<br />\n&nbsp\;
LOCATION:Penrose House - Garden Pavilion 1661 Mesa Ave. Colorado Springs\, CO
UID:e.3452.2860
SEQUENCE:3
DTSTAMP:20260420T131458Z
URL:https://cressiodev.cshispanicchamber.com/events/details/el-pomar-nonprofit-board-governance-training-2860
END:VEVENT

END:VCALENDAR
