BEGIN:VCALENDAR
VERSION:2.0
PRODID:-//ChamberMaster//Event Calendar 2.0//EN
METHOD:PUBLISH
X-PUBLISHED-TTL:P3D
REFRESH-INTERVAL:P3D
CALSCALE:GREGORIAN
BEGIN:VEVENT
DTSTART:20230420T233000Z
DTEND:20230421T013000Z
X-MICROSOFT-CDO-ALLDAYEVENT:FALSE
SUMMARY:Hispanic Chamber Business After Hours
DESCRIPTION:Join us as we  build business\, connections\, and celebrate our Hispanic and multicultural businesses.  Enjoy an evening of connecting\, fellowship\, and meeting Hispanic Chamber business and community members.
X-ALT-DESC;FMTTYPE=text/html:Join us as we&nbsp\; build business\, connections\, and celebrate our Hispanic and multicultural businesses.&nbsp\; Enjoy an evening of connecting\, fellowship\, and meeting Hispanic Chamber business and community members.
LOCATION:Blondies 24 N. Tejon Street Colorado Springs
UID:e.3452.2857
SEQUENCE:3
DTSTAMP:20260420T131551Z
URL:https://cressiodev.cshispanicchamber.com/events/details/hispanic-chamber-business-after-hours-2857
END:VEVENT

END:VCALENDAR
