BEGIN:VCALENDAR
VERSION:2.0
PRODID:-//ChamberMaster//Event Calendar 2.0//EN
METHOD:PUBLISH
X-PUBLISHED-TTL:P3D
REFRESH-INTERVAL:P3D
CALSCALE:GREGORIAN
BEGIN:VEVENT
DTSTART:20230314T173000Z
DTEND:20230314T193000Z
X-MICROSOFT-CDO-ALLDAYEVENT:FALSE
SUMMARY:Hispanic Chamber Business Luncheon
DESCRIPTION:Connect and elevate your business through networking and fellowship with Hispanic-owned and small businesses in the Pikes Peak region working together for greater prosperity in our community.  \n\n\n\nHear the inspiring message on No Lucks Give: Life is Hard But There is Hope from Chef Brother Luck.  Cooking is a way of remembering the ghosts of his past. Whenever he is in the kitchen it's a surreal experience that takes him on a roller coaster of emotions. Preparing food is a type of therapy and serving others is my reward.
X-ALT-DESC;FMTTYPE=text/html:<span style="font-size:16px\;"><span style="font-family:arial\;">Connect and elevate your business through networking and fellowship with Hispanic-owned and small businesses in the Pikes Peak region working together for greater prosperity in our community.&nbsp\;&nbsp\;<br />\n<br />\nHear the inspiring message on No Lucks Give: Life is Hard But There is Hope from Chef Brother Luck.&nbsp\; Cooking is a way of remembering the ghosts of his past. Whenever he is in the kitchen it&rsquo\;s a surreal experience that takes him on a roller coaster of emotions. Preparing food is a type of therapy and serving others is my reward.</span></span>
LOCATION:United State Air Force Academy Falcon Club 3120 Academy Drive United States Air Force Academy
UID:e.3452.2244
SEQUENCE:3
DTSTAMP:20260420T150102Z
URL:https://cressiodev.cshispanicchamber.com/events/details/hispanic-chamber-business-luncheon-2244
END:VEVENT

END:VCALENDAR
