BEGIN:VCALENDAR
VERSION:2.0
PRODID:-//ChamberMaster//Event Calendar 2.0//EN
METHOD:PUBLISH
X-PUBLISHED-TTL:P3D
REFRESH-INTERVAL:P3D
CALSCALE:GREGORIAN
BEGIN:VEVENT
DTSTART:20190324T210000Z
DTEND:20190324T230000Z
X-MICROSOFT-CDO-ALLDAYEVENT:FALSE
SUMMARY:NAACP Unit #4001 Mayoral & City Council Candidate Forum
DESCRIPTION:
X-ALT-DESC;FMTTYPE=text/html:
LOCATION:Sand Creek Library 1821 S. Academy Blvd Colorado Springs\, CO
UID:e.3452.12
SEQUENCE:3
DTSTAMP:20260423T231231Z
URL:https://cressiodev.cshispanicchamber.com/events/details/naacp-unit-4001-mayoral-city-council-candidate-forum-12
END:VEVENT

END:VCALENDAR
