BEGIN:VCALENDAR
VERSION:2.0
PRODID:-//ChamberMaster//Event Calendar 2.0//EN
METHOD:PUBLISH
X-PUBLISHED-TTL:P3D
REFRESH-INTERVAL:P3D
CALSCALE:GREGORIAN
BEGIN:VEVENT
DTSTART:20190129T183000Z
DTEND:20190129T233000Z
X-MICROSOFT-CDO-ALLDAYEVENT:FALSE
SUMMARY:Pikes Peak Small Business Development Center Minority Enterprise Business & Diversity Summit
DESCRIPTION:To remain competitive in today's global economy\, businesses must be innovative and creative when it comes to maintaining diversity to remain competitive on the regional and global stage. The 2019 Minority Business Enterprise & Diversity Summit: Winning Through Inclusion will provide businesses the opportunity to explore tools and resources necessary to build diverse businesses. The summit will also provide a valuable opportunity for attendees to network together and grow in their knowledge of diversity and inclusion.
X-ALT-DESC;FMTTYPE=text/html:To remain competitive in today&rsquo\;s global economy\, businesses must be innovative and creative when it comes to maintaining diversity to remain competitive on the regional and global stage. The 2019 Minority Business Enterprise &amp\; Diversity Summit: Winning Through Inclusion will provide businesses the opportunity to explore tools and resources necessary to build diverse businesses. The summit will also provide a valuable opportunity for attendees to network together and grow in their knowledge of diversity and inclusion.
LOCATION:The Pinery at The Hill 775 W. Bijou Street Colorado Springs\, Colorado
UID:e.3452.1
SEQUENCE:3
DTSTAMP:20260424T014809Z
URL:https://cressiodev.cshispanicchamber.com/events/details/pikes-peak-small-business-development-center-minority-enterprise-business-diversity-summit-01-29-2019-1
END:VEVENT

END:VCALENDAR
